BEGIN:VCALENDAR
VERSION:2.0
PRODID:-//Gurt Wings - ECPv6.15.20//NONSGML v1.0//EN
CALSCALE:GREGORIAN
METHOD:PUBLISH
X-ORIGINAL-URL:https://gurtwings.co.uk
X-WR-CALDESC:Events for Gurt Wings
REFRESH-INTERVAL;VALUE=DURATION:PT1H
X-Robots-Tag:noindex
X-PUBLISHED-TTL:PT1H
BEGIN:VTIMEZONE
TZID:Europe/London
BEGIN:DAYLIGHT
TZOFFSETFROM:+0000
TZOFFSETTO:+0100
TZNAME:BST
DTSTART:20250330T010000
END:DAYLIGHT
BEGIN:STANDARD
TZOFFSETFROM:+0100
TZOFFSETTO:+0000
TZNAME:GMT
DTSTART:20251026T010000
END:STANDARD
BEGIN:DAYLIGHT
TZOFFSETFROM:+0000
TZOFFSETTO:+0100
TZNAME:BST
DTSTART:20260329T010000
END:DAYLIGHT
BEGIN:STANDARD
TZOFFSETFROM:+0100
TZOFFSETTO:+0000
TZNAME:GMT
DTSTART:20261025T010000
END:STANDARD
BEGIN:DAYLIGHT
TZOFFSETFROM:+0000
TZOFFSETTO:+0100
TZNAME:BST
DTSTART:20270328T010000
END:DAYLIGHT
BEGIN:STANDARD
TZOFFSETFROM:+0100
TZOFFSETTO:+0000
TZNAME:GMT
DTSTART:20271031T010000
END:STANDARD
END:VTIMEZONE
BEGIN:VEVENT
DTSTART;TZID=Europe/London:20260404T160000
DTEND;TZID=Europe/London:20260404T200000
DTSTAMP:20260423T144643
CREATED:20251016T150646Z
LAST-MODIFIED:20260403T234100Z
UID:10002775-1775318400-1775332800@gurtwings.co.uk
SUMMARY:Cafe 33\, Burnham on Sea
DESCRIPTION:
URL:https://gurtwings.co.uk/event/cafe-33-burnham-on-sea/
LOCATION:Cafe 33\, 11 Weston Road\, Berrow\, United Kingdom
GEO:51.3143702;-2.9676876
X-APPLE-STRUCTURED-LOCATION;VALUE=URI;X-ADDRESS=Cafe 33 11 Weston Road Berrow United Kingdom;X-APPLE-RADIUS=500;X-TITLE=11 Weston Road:geo:-2.9676876,51.3143702
END:VEVENT
END:VCALENDAR