BEGIN:VCALENDAR
VERSION:2.0
PRODID:-//Gurt Wings - ECPv6.15.20//NONSGML v1.0//EN
CALSCALE:GREGORIAN
METHOD:PUBLISH
X-ORIGINAL-URL:https://gurtwings.co.uk
X-WR-CALDESC:Events for Gurt Wings
REFRESH-INTERVAL;VALUE=DURATION:PT1H
X-Robots-Tag:noindex
X-PUBLISHED-TTL:PT1H
BEGIN:VTIMEZONE
TZID:Europe/London
BEGIN:DAYLIGHT
TZOFFSETFROM:+0000
TZOFFSETTO:+0100
TZNAME:BST
DTSTART:20250330T010000
END:DAYLIGHT
BEGIN:STANDARD
TZOFFSETFROM:+0100
TZOFFSETTO:+0000
TZNAME:GMT
DTSTART:20251026T010000
END:STANDARD
BEGIN:DAYLIGHT
TZOFFSETFROM:+0000
TZOFFSETTO:+0100
TZNAME:BST
DTSTART:20260329T010000
END:DAYLIGHT
BEGIN:STANDARD
TZOFFSETFROM:+0100
TZOFFSETTO:+0000
TZNAME:GMT
DTSTART:20261025T010000
END:STANDARD
BEGIN:DAYLIGHT
TZOFFSETFROM:+0000
TZOFFSETTO:+0100
TZNAME:BST
DTSTART:20270328T010000
END:DAYLIGHT
BEGIN:STANDARD
TZOFFSETFROM:+0100
TZOFFSETTO:+0000
TZNAME:GMT
DTSTART:20271031T010000
END:STANDARD
END:VTIMEZONE
BEGIN:VEVENT
DTSTART;TZID=Europe/London:20260513T170000
DTEND;TZID=Europe/London:20260513T200000
DTSTAMP:20260426T012853
CREATED:20260317T231546Z
LAST-MODIFIED:20260425T181220Z
UID:10003901-1778691600-1778702400@gurtwings.co.uk
SUMMARY:The Carters Rest\, Wroughton
DESCRIPTION:
URL:https://gurtwings.co.uk/event/the-carters-rest-wroughton-4/
LOCATION:Carters Rest\, 57 High Street\, Wroughton and Chiseldon\, England\, United Kingdom
GEO:51.5510353;-1.7732843
X-APPLE-STRUCTURED-LOCATION;VALUE=URI;X-ADDRESS=Carters Rest 57 High Street Wroughton and Chiseldon England United Kingdom;X-APPLE-RADIUS=500;X-TITLE=57 High Street:geo:-1.7732843,51.5510353
END:VEVENT
BEGIN:VEVENT
DTSTART;TZID=Europe/London:20260604T170000
DTEND;TZID=Europe/London:20260604T200000
DTSTAMP:20260426T012853
CREATED:20260317T231741Z
LAST-MODIFIED:20260409T191523Z
UID:10003902-1780592400-1780603200@gurtwings.co.uk
SUMMARY:The Carters Rest\, Wroughton
DESCRIPTION:
URL:https://gurtwings.co.uk/event/the-carters-rest-wroughton-5/
LOCATION:Carters Rest\, 57 High Street\, Wroughton and Chiseldon\, England\, United Kingdom
GEO:51.5510353;-1.7732843
X-APPLE-STRUCTURED-LOCATION;VALUE=URI;X-ADDRESS=Carters Rest 57 High Street Wroughton and Chiseldon England United Kingdom;X-APPLE-RADIUS=500;X-TITLE=57 High Street:geo:-1.7732843,51.5510353
END:VEVENT
BEGIN:VEVENT
DTSTART;TZID=Europe/London:20260704T140000
DTEND;TZID=Europe/London:20260704T200000
DTSTAMP:20260426T012853
CREATED:20260317T232002Z
LAST-MODIFIED:20260409T191729Z
UID:10003904-1783173600-1783195200@gurtwings.co.uk
SUMMARY:The Carters Rest\, Wroughton
DESCRIPTION:
URL:https://gurtwings.co.uk/event/the-carters-rest-wroughton-6/
LOCATION:Carters Rest\, 57 High Street\, Wroughton and Chiseldon\, England\, United Kingdom
GEO:51.5510353;-1.7732843
X-APPLE-STRUCTURED-LOCATION;VALUE=URI;X-ADDRESS=Carters Rest 57 High Street Wroughton and Chiseldon England United Kingdom;X-APPLE-RADIUS=500;X-TITLE=57 High Street:geo:-1.7732843,51.5510353
END:VEVENT
BEGIN:VEVENT
DTSTART;TZID=Europe/London:20260807T170000
DTEND;TZID=Europe/London:20260807T200000
DTSTAMP:20260426T012853
CREATED:20260317T232222Z
LAST-MODIFIED:20260409T191958Z
UID:10003905-1786122000-1786132800@gurtwings.co.uk
SUMMARY:The Carters Rest\, Wroughton
DESCRIPTION:
URL:https://gurtwings.co.uk/event/the-carters-rest-wroughton-7/
LOCATION:Carters Rest\, 57 High Street\, Wroughton and Chiseldon\, England\, United Kingdom
GEO:51.5510353;-1.7732843
X-APPLE-STRUCTURED-LOCATION;VALUE=URI;X-ADDRESS=Carters Rest 57 High Street Wroughton and Chiseldon England United Kingdom;X-APPLE-RADIUS=500;X-TITLE=57 High Street:geo:-1.7732843,51.5510353
END:VEVENT
BEGIN:VEVENT
DTSTART;TZID=Europe/London:20260910T170000
DTEND;TZID=Europe/London:20260910T200000
DTSTAMP:20260426T012853
CREATED:20260317T232458Z
LAST-MODIFIED:20260409T192211Z
UID:10003906-1789059600-1789070400@gurtwings.co.uk
SUMMARY:The Carters Rest\, Wroughton
DESCRIPTION:
URL:https://gurtwings.co.uk/event/the-carters-rest-wroughton-8/
LOCATION:Carters Rest\, 57 High Street\, Wroughton and Chiseldon\, England\, United Kingdom
GEO:51.5510353;-1.7732843
X-APPLE-STRUCTURED-LOCATION;VALUE=URI;X-ADDRESS=Carters Rest 57 High Street Wroughton and Chiseldon England United Kingdom;X-APPLE-RADIUS=500;X-TITLE=57 High Street:geo:-1.7732843,51.5510353
END:VEVENT
BEGIN:VEVENT
DTSTART;TZID=Europe/London:20261008T170000
DTEND;TZID=Europe/London:20261008T200000
DTSTAMP:20260426T012853
CREATED:20260317T232652Z
LAST-MODIFIED:20260409T192400Z
UID:10003907-1791478800-1791489600@gurtwings.co.uk
SUMMARY:The Carters Rest\, Wroughton
DESCRIPTION:
URL:https://gurtwings.co.uk/event/the-carters-rest-wroughton-9/
LOCATION:Carters Rest\, 57 High Street\, Wroughton and Chiseldon\, England\, United Kingdom
GEO:51.5510353;-1.7732843
X-APPLE-STRUCTURED-LOCATION;VALUE=URI;X-ADDRESS=Carters Rest 57 High Street Wroughton and Chiseldon England United Kingdom;X-APPLE-RADIUS=500;X-TITLE=57 High Street:geo:-1.7732843,51.5510353
END:VEVENT
BEGIN:VEVENT
DTSTART;TZID=Europe/London:20261107T160000
DTEND;TZID=Europe/London:20261107T200000
DTSTAMP:20260426T012853
CREATED:20260317T232834Z
LAST-MODIFIED:20260409T192547Z
UID:10003908-1794067200-1794081600@gurtwings.co.uk
SUMMARY:The Carters Rest\, Wroughton
DESCRIPTION:
URL:https://gurtwings.co.uk/event/the-carters-rest-wroughton-10/
LOCATION:Carters Rest\, 57 High Street\, Wroughton and Chiseldon\, England\, United Kingdom
GEO:51.5510353;-1.7732843
X-APPLE-STRUCTURED-LOCATION;VALUE=URI;X-ADDRESS=Carters Rest 57 High Street Wroughton and Chiseldon England United Kingdom;X-APPLE-RADIUS=500;X-TITLE=57 High Street:geo:-1.7732843,51.5510353
END:VEVENT
BEGIN:VEVENT
DTSTART;TZID=Europe/London:20261203T170000
DTEND;TZID=Europe/London:20261203T200000
DTSTAMP:20260426T012853
CREATED:20260317T232959Z
LAST-MODIFIED:20260409T192712Z
UID:10003909-1796317200-1796328000@gurtwings.co.uk
SUMMARY:The Carters Rest\, Wroughton
DESCRIPTION:
URL:https://gurtwings.co.uk/event/the-carters-rest-wroughton-11/
LOCATION:Carters Rest\, 57 High Street\, Wroughton and Chiseldon\, England\, United Kingdom
GEO:51.5510353;-1.7732843
X-APPLE-STRUCTURED-LOCATION;VALUE=URI;X-ADDRESS=Carters Rest 57 High Street Wroughton and Chiseldon England United Kingdom;X-APPLE-RADIUS=500;X-TITLE=57 High Street:geo:-1.7732843,51.5510353
END:VEVENT
END:VCALENDAR