BEGIN:VCALENDAR
VERSION:2.0
PRODID:-//Gurt Wings - ECPv6.15.20//NONSGML v1.0//EN
CALSCALE:GREGORIAN
METHOD:PUBLISH
X-ORIGINAL-URL:https://gurtwings.co.uk
X-WR-CALDESC:Events for Gurt Wings
REFRESH-INTERVAL;VALUE=DURATION:PT1H
X-Robots-Tag:noindex
X-PUBLISHED-TTL:PT1H
BEGIN:VTIMEZONE
TZID:Europe/London
BEGIN:DAYLIGHT
TZOFFSETFROM:+0000
TZOFFSETTO:+0100
TZNAME:BST
DTSTART:20250330T010000
END:DAYLIGHT
BEGIN:STANDARD
TZOFFSETFROM:+0100
TZOFFSETTO:+0000
TZNAME:GMT
DTSTART:20251026T010000
END:STANDARD
BEGIN:DAYLIGHT
TZOFFSETFROM:+0000
TZOFFSETTO:+0100
TZNAME:BST
DTSTART:20260329T010000
END:DAYLIGHT
BEGIN:STANDARD
TZOFFSETFROM:+0100
TZOFFSETTO:+0000
TZNAME:GMT
DTSTART:20261025T010000
END:STANDARD
BEGIN:DAYLIGHT
TZOFFSETFROM:+0000
TZOFFSETTO:+0100
TZNAME:BST
DTSTART:20270328T010000
END:DAYLIGHT
BEGIN:STANDARD
TZOFFSETFROM:+0100
TZOFFSETTO:+0000
TZNAME:GMT
DTSTART:20271031T010000
END:STANDARD
END:VTIMEZONE
BEGIN:VEVENT
DTSTART;TZID=Europe/London:20260605T170000
DTEND;TZID=Europe/London:20260605T210000
DTSTAMP:20260426T033659
CREATED:20251023T175319Z
LAST-MODIFIED:20260409T191523Z
UID:10002940-1780678800-1780693200@gurtwings.co.uk
SUMMARY:Chew Valley Distillery
DESCRIPTION:
URL:https://gurtwings.co.uk/event/chew-valley-distillery-4/
LOCATION:Chew Valley Distillery\, Bitton\, United Kingdom
GEO:51.4291146596;-2.47298712853
END:VEVENT
BEGIN:VEVENT
DTSTART;TZID=Europe/London:20260807T170000
DTEND;TZID=Europe/London:20260807T210000
DTSTAMP:20260426T033659
CREATED:20251024T181239Z
LAST-MODIFIED:20260409T191958Z
UID:10003100-1786122000-1786136400@gurtwings.co.uk
SUMMARY:Chew Valley Distillery
DESCRIPTION:
URL:https://gurtwings.co.uk/event/chew-valley-distillery-5/
LOCATION:Chew Valley Distillery\, Bitton\, United Kingdom
GEO:51.4291146596;-2.47298712853
END:VEVENT
BEGIN:VEVENT
DTSTART;TZID=Europe/London:20261002T170000
DTEND;TZID=Europe/London:20261002T210000
DTSTAMP:20260426T033659
CREATED:20251027T191455Z
LAST-MODIFIED:20260409T192346Z
UID:10003230-1790960400-1790974800@gurtwings.co.uk
SUMMARY:Chew Valley Distillery
DESCRIPTION:
URL:https://gurtwings.co.uk/event/chew-valley-distillery-6/
LOCATION:Chew Valley Distillery\, Bitton\, United Kingdom
GEO:51.4291146596;-2.47298712853
END:VEVENT
BEGIN:VEVENT
DTSTART;TZID=Europe/London:20261204T170000
DTEND;TZID=Europe/London:20261204T210000
DTSTAMP:20260426T033659
CREATED:20251028T194755Z
LAST-MODIFIED:20260409T192712Z
UID:10003353-1796403600-1796418000@gurtwings.co.uk
SUMMARY:Chew Valley Distillery
DESCRIPTION:
URL:https://gurtwings.co.uk/event/chew-valley-distillery-7/
LOCATION:Chew Valley Distillery\, Bitton\, United Kingdom
GEO:51.4291146596;-2.47298712853
END:VEVENT
END:VCALENDAR