BEGIN:VCALENDAR
VERSION:2.0
PRODID:-//Gurt Wings - ECPv6.15.20//NONSGML v1.0//EN
CALSCALE:GREGORIAN
METHOD:PUBLISH
X-ORIGINAL-URL:https://gurtwings.co.uk
X-WR-CALDESC:Events for Gurt Wings
REFRESH-INTERVAL;VALUE=DURATION:PT1H
X-Robots-Tag:noindex
X-PUBLISHED-TTL:PT1H
BEGIN:VTIMEZONE
TZID:Europe/London
BEGIN:DAYLIGHT
TZOFFSETFROM:+0000
TZOFFSETTO:+0100
TZNAME:BST
DTSTART:20250330T010000
END:DAYLIGHT
BEGIN:STANDARD
TZOFFSETFROM:+0100
TZOFFSETTO:+0000
TZNAME:GMT
DTSTART:20251026T010000
END:STANDARD
BEGIN:DAYLIGHT
TZOFFSETFROM:+0000
TZOFFSETTO:+0100
TZNAME:BST
DTSTART:20260329T010000
END:DAYLIGHT
BEGIN:STANDARD
TZOFFSETFROM:+0100
TZOFFSETTO:+0000
TZNAME:GMT
DTSTART:20261025T010000
END:STANDARD
BEGIN:DAYLIGHT
TZOFFSETFROM:+0000
TZOFFSETTO:+0100
TZNAME:BST
DTSTART:20270328T010000
END:DAYLIGHT
BEGIN:STANDARD
TZOFFSETFROM:+0100
TZOFFSETTO:+0000
TZNAME:GMT
DTSTART:20271031T010000
END:STANDARD
END:VTIMEZONE
BEGIN:VEVENT
DTSTART;TZID=Europe/London:20260429T110000
DTEND;TZID=Europe/London:20260429T140000
DTSTAMP:20260423T184503
CREATED:20251020T162612Z
LAST-MODIFIED:20260422T174129Z
UID:10002842-1777460400-1777471200@gurtwings.co.uk
SUMMARY:Finzels Reach Market
DESCRIPTION:
URL:https://gurtwings.co.uk/event/finzels-reach-market-69/
LOCATION:Finzels Reach Street Food Market\, Old Temple St\, Redcliffe\, Bristol BS1 6LQ\, UK\, Old Temple Street\, England\, BS1 6LQ\, United Kingdom
GEO:51.4536062;-2.5884908
X-APPLE-STRUCTURED-LOCATION;VALUE=URI;X-ADDRESS=Finzels Reach Street Food Market Old Temple St Redcliffe Bristol BS1 6LQ UK Old Temple Street England BS1 6LQ United Kingdom;X-APPLE-RADIUS=500;X-TITLE=Old Temple Street:geo:-2.5884908,51.4536062
END:VEVENT
BEGIN:VEVENT
DTSTART;TZID=Europe/London:20260506T110000
DTEND;TZID=Europe/London:20260506T140000
DTSTAMP:20260423T184503
CREATED:20251020T162627Z
LAST-MODIFIED:20260422T174156Z
UID:10002858-1778065200-1778076000@gurtwings.co.uk
SUMMARY:Finzels Reach Market
DESCRIPTION:
URL:https://gurtwings.co.uk/event/finzels-reach-market-70/
LOCATION:Finzels Reach Street Food Market\, Old Temple St\, Redcliffe\, Bristol BS1 6LQ\, UK\, Old Temple Street\, England\, BS1 6LQ\, United Kingdom
GEO:51.4536062;-2.5884908
X-APPLE-STRUCTURED-LOCATION;VALUE=URI;X-ADDRESS=Finzels Reach Street Food Market Old Temple St Redcliffe Bristol BS1 6LQ UK Old Temple Street England BS1 6LQ United Kingdom;X-APPLE-RADIUS=500;X-TITLE=Old Temple Street:geo:-2.5884908,51.4536062
END:VEVENT
BEGIN:VEVENT
DTSTART;TZID=Europe/London:20260513T110000
DTEND;TZID=Europe/London:20260513T140000
DTSTAMP:20260423T184503
CREATED:20251020T162656Z
LAST-MODIFIED:20260422T174235Z
UID:10002877-1778670000-1778680800@gurtwings.co.uk
SUMMARY:Finzels Reach Market
DESCRIPTION:
URL:https://gurtwings.co.uk/event/finzels-reach-market-71/
LOCATION:Finzels Reach Street Food Market\, Old Temple St\, Redcliffe\, Bristol BS1 6LQ\, UK\, Old Temple Street\, England\, BS1 6LQ\, United Kingdom
GEO:51.4536062;-2.5884908
X-APPLE-STRUCTURED-LOCATION;VALUE=URI;X-ADDRESS=Finzels Reach Street Food Market Old Temple St Redcliffe Bristol BS1 6LQ UK Old Temple Street England BS1 6LQ United Kingdom;X-APPLE-RADIUS=500;X-TITLE=Old Temple Street:geo:-2.5884908,51.4536062
END:VEVENT
BEGIN:VEVENT
DTSTART;TZID=Europe/London:20260520T110000
DTEND;TZID=Europe/London:20260520T140000
DTSTAMP:20260423T184503
CREATED:20251022T173828Z
LAST-MODIFIED:20260422T174304Z
UID:10002893-1779274800-1779285600@gurtwings.co.uk
SUMMARY:Finzels Reach Market
DESCRIPTION:
URL:https://gurtwings.co.uk/event/finzels-reach-market-72/
LOCATION:Finzels Reach Street Food Market\, Old Temple St\, Redcliffe\, Bristol BS1 6LQ\, UK\, Old Temple Street\, England\, BS1 6LQ\, United Kingdom
GEO:51.4536062;-2.5884908
X-APPLE-STRUCTURED-LOCATION;VALUE=URI;X-ADDRESS=Finzels Reach Street Food Market Old Temple St Redcliffe Bristol BS1 6LQ UK Old Temple Street England BS1 6LQ United Kingdom;X-APPLE-RADIUS=500;X-TITLE=Old Temple Street:geo:-2.5884908,51.4536062
END:VEVENT
BEGIN:VEVENT
DTSTART;TZID=Europe/London:20260527T110000
DTEND;TZID=Europe/London:20260527T140000
DTSTAMP:20260423T184503
CREATED:20251022T173858Z
LAST-MODIFIED:20260409T191440Z
UID:10002913-1779879600-1779890400@gurtwings.co.uk
SUMMARY:Finzels Reach Market
DESCRIPTION:
URL:https://gurtwings.co.uk/event/finzels-reach-market-73/
LOCATION:Finzels Reach Street Food Market\, Old Temple St\, Redcliffe\, Bristol BS1 6LQ\, UK\, Old Temple Street\, England\, BS1 6LQ\, United Kingdom
GEO:51.4536062;-2.5884908
X-APPLE-STRUCTURED-LOCATION;VALUE=URI;X-ADDRESS=Finzels Reach Street Food Market Old Temple St Redcliffe Bristol BS1 6LQ UK Old Temple Street England BS1 6LQ United Kingdom;X-APPLE-RADIUS=500;X-TITLE=Old Temple Street:geo:-2.5884908,51.4536062
END:VEVENT
BEGIN:VEVENT
DTSTART;TZID=Europe/London:20260603T110000
DTEND;TZID=Europe/London:20260603T140000
DTSTAMP:20260423T184503
CREATED:20251023T175317Z
LAST-MODIFIED:20260409T191509Z
UID:10002931-1780484400-1780495200@gurtwings.co.uk
SUMMARY:Finzels Reach Market
DESCRIPTION:
URL:https://gurtwings.co.uk/event/finzels-reach-market-74/
LOCATION:Finzels Reach Street Food Market\, Old Temple St\, Redcliffe\, Bristol BS1 6LQ\, UK\, Old Temple Street\, England\, BS1 6LQ\, United Kingdom
GEO:51.4536062;-2.5884908
X-APPLE-STRUCTURED-LOCATION;VALUE=URI;X-ADDRESS=Finzels Reach Street Food Market Old Temple St Redcliffe Bristol BS1 6LQ UK Old Temple Street England BS1 6LQ United Kingdom;X-APPLE-RADIUS=500;X-TITLE=Old Temple Street:geo:-2.5884908,51.4536062
END:VEVENT
BEGIN:VEVENT
DTSTART;TZID=Europe/London:20260610T110000
DTEND;TZID=Europe/London:20260610T140000
DTSTAMP:20260423T184503
CREATED:20251023T175345Z
LAST-MODIFIED:20260409T191537Z
UID:10002950-1781089200-1781100000@gurtwings.co.uk
SUMMARY:Finzels Reach Market
DESCRIPTION:
URL:https://gurtwings.co.uk/event/finzels-reach-market-75/
LOCATION:Finzels Reach Street Food Market\, Old Temple St\, Redcliffe\, Bristol BS1 6LQ\, UK\, Old Temple Street\, England\, BS1 6LQ\, United Kingdom
GEO:51.4536062;-2.5884908
X-APPLE-STRUCTURED-LOCATION;VALUE=URI;X-ADDRESS=Finzels Reach Street Food Market Old Temple St Redcliffe Bristol BS1 6LQ UK Old Temple Street England BS1 6LQ United Kingdom;X-APPLE-RADIUS=500;X-TITLE=Old Temple Street:geo:-2.5884908,51.4536062
END:VEVENT
BEGIN:VEVENT
DTSTART;TZID=Europe/London:20260617T110000
DTEND;TZID=Europe/London:20260617T140000
DTSTAMP:20260423T184503
CREATED:20251024T180921Z
LAST-MODIFIED:20260409T191604Z
UID:10002974-1781694000-1781704800@gurtwings.co.uk
SUMMARY:Finzels Reach Market
DESCRIPTION:
URL:https://gurtwings.co.uk/event/finzels-reach-market-76/
LOCATION:Finzels Reach Street Food Market\, Old Temple St\, Redcliffe\, Bristol BS1 6LQ\, UK\, Old Temple Street\, England\, BS1 6LQ\, United Kingdom
GEO:51.4536062;-2.5884908
X-APPLE-STRUCTURED-LOCATION;VALUE=URI;X-ADDRESS=Finzels Reach Street Food Market Old Temple St Redcliffe Bristol BS1 6LQ UK Old Temple Street England BS1 6LQ United Kingdom;X-APPLE-RADIUS=500;X-TITLE=Old Temple Street:geo:-2.5884908,51.4536062
END:VEVENT
BEGIN:VEVENT
DTSTART;TZID=Europe/London:20260624T110000
DTEND;TZID=Europe/London:20260624T140000
DTSTAMP:20260423T184503
CREATED:20251024T180949Z
LAST-MODIFIED:20260409T191645Z
UID:10002993-1782298800-1782309600@gurtwings.co.uk
SUMMARY:Finzels Reach Market
DESCRIPTION:
URL:https://gurtwings.co.uk/event/finzels-reach-market-77/
LOCATION:Finzels Reach Street Food Market\, Old Temple St\, Redcliffe\, Bristol BS1 6LQ\, UK\, Old Temple Street\, England\, BS1 6LQ\, United Kingdom
GEO:51.4536062;-2.5884908
X-APPLE-STRUCTURED-LOCATION;VALUE=URI;X-ADDRESS=Finzels Reach Street Food Market Old Temple St Redcliffe Bristol BS1 6LQ UK Old Temple Street England BS1 6LQ United Kingdom;X-APPLE-RADIUS=500;X-TITLE=Old Temple Street:geo:-2.5884908,51.4536062
END:VEVENT
BEGIN:VEVENT
DTSTART;TZID=Europe/London:20260701T110000
DTEND;TZID=Europe/London:20260701T140000
DTSTAMP:20260423T184503
CREATED:20251024T181005Z
LAST-MODIFIED:20260409T191714Z
UID:10003009-1782903600-1782914400@gurtwings.co.uk
SUMMARY:Finzels Reach Market
DESCRIPTION:
URL:https://gurtwings.co.uk/event/finzels-reach-market-78/
LOCATION:Finzels Reach Street Food Market\, Old Temple St\, Redcliffe\, Bristol BS1 6LQ\, UK\, Old Temple Street\, England\, BS1 6LQ\, United Kingdom
GEO:51.4536062;-2.5884908
X-APPLE-STRUCTURED-LOCATION;VALUE=URI;X-ADDRESS=Finzels Reach Street Food Market Old Temple St Redcliffe Bristol BS1 6LQ UK Old Temple Street England BS1 6LQ United Kingdom;X-APPLE-RADIUS=500;X-TITLE=Old Temple Street:geo:-2.5884908,51.4536062
END:VEVENT
BEGIN:VEVENT
DTSTART;TZID=Europe/London:20260708T110000
DTEND;TZID=Europe/London:20260708T140000
DTSTAMP:20260423T184503
CREATED:20251024T181033Z
LAST-MODIFIED:20260409T191742Z
UID:10003028-1783508400-1783519200@gurtwings.co.uk
SUMMARY:Finzels Reach Market
DESCRIPTION:
URL:https://gurtwings.co.uk/event/finzels-reach-market-79/
LOCATION:Finzels Reach Street Food Market\, Old Temple St\, Redcliffe\, Bristol BS1 6LQ\, UK\, Old Temple Street\, England\, BS1 6LQ\, United Kingdom
GEO:51.4536062;-2.5884908
X-APPLE-STRUCTURED-LOCATION;VALUE=URI;X-ADDRESS=Finzels Reach Street Food Market Old Temple St Redcliffe Bristol BS1 6LQ UK Old Temple Street England BS1 6LQ United Kingdom;X-APPLE-RADIUS=500;X-TITLE=Old Temple Street:geo:-2.5884908,51.4536062
END:VEVENT
BEGIN:VEVENT
DTSTART;TZID=Europe/London:20260715T110000
DTEND;TZID=Europe/London:20260715T140000
DTSTAMP:20260423T184503
CREATED:20251024T181102Z
LAST-MODIFIED:20260409T191823Z
UID:10003043-1784113200-1784124000@gurtwings.co.uk
SUMMARY:Finzels Reach Market
DESCRIPTION:
URL:https://gurtwings.co.uk/event/finzels-reach-market-80/
LOCATION:Finzels Reach Street Food Market\, Old Temple St\, Redcliffe\, Bristol BS1 6LQ\, UK\, Old Temple Street\, England\, BS1 6LQ\, United Kingdom
GEO:51.4536062;-2.5884908
X-APPLE-STRUCTURED-LOCATION;VALUE=URI;X-ADDRESS=Finzels Reach Street Food Market Old Temple St Redcliffe Bristol BS1 6LQ UK Old Temple Street England BS1 6LQ United Kingdom;X-APPLE-RADIUS=500;X-TITLE=Old Temple Street:geo:-2.5884908,51.4536062
END:VEVENT
BEGIN:VEVENT
DTSTART;TZID=Europe/London:20260722T110000
DTEND;TZID=Europe/London:20260722T140000
DTSTAMP:20260423T184503
CREATED:20251024T181142Z
LAST-MODIFIED:20260409T191849Z
UID:10003061-1784718000-1784728800@gurtwings.co.uk
SUMMARY:Finzels Reach Market
DESCRIPTION:
URL:https://gurtwings.co.uk/event/finzels-reach-market-81/
LOCATION:Finzels Reach Street Food Market\, Old Temple St\, Redcliffe\, Bristol BS1 6LQ\, UK\, Old Temple Street\, England\, BS1 6LQ\, United Kingdom
GEO:51.4536062;-2.5884908
X-APPLE-STRUCTURED-LOCATION;VALUE=URI;X-ADDRESS=Finzels Reach Street Food Market Old Temple St Redcliffe Bristol BS1 6LQ UK Old Temple Street England BS1 6LQ United Kingdom;X-APPLE-RADIUS=500;X-TITLE=Old Temple Street:geo:-2.5884908,51.4536062
END:VEVENT
BEGIN:VEVENT
DTSTART;TZID=Europe/London:20260729T110000
DTEND;TZID=Europe/London:20260729T140000
DTSTAMP:20260423T184503
CREATED:20251024T181211Z
LAST-MODIFIED:20260409T191918Z
UID:10003077-1785322800-1785333600@gurtwings.co.uk
SUMMARY:Finzels Reach Market
DESCRIPTION:
URL:https://gurtwings.co.uk/event/finzels-reach-market-82/
LOCATION:Finzels Reach Street Food Market\, Old Temple St\, Redcliffe\, Bristol BS1 6LQ\, UK\, Old Temple Street\, England\, BS1 6LQ\, United Kingdom
GEO:51.4536062;-2.5884908
X-APPLE-STRUCTURED-LOCATION;VALUE=URI;X-ADDRESS=Finzels Reach Street Food Market Old Temple St Redcliffe Bristol BS1 6LQ UK Old Temple Street England BS1 6LQ United Kingdom;X-APPLE-RADIUS=500;X-TITLE=Old Temple Street:geo:-2.5884908,51.4536062
END:VEVENT
BEGIN:VEVENT
DTSTART;TZID=Europe/London:20260805T110000
DTEND;TZID=Europe/London:20260805T140000
DTSTAMP:20260423T184503
CREATED:20251024T181226Z
LAST-MODIFIED:20260409T191946Z
UID:10003091-1785927600-1785938400@gurtwings.co.uk
SUMMARY:Finzels Reach Market
DESCRIPTION:
URL:https://gurtwings.co.uk/event/finzels-reach-market-83/
LOCATION:Finzels Reach Street Food Market\, Old Temple St\, Redcliffe\, Bristol BS1 6LQ\, UK\, Old Temple Street\, England\, BS1 6LQ\, United Kingdom
GEO:51.4536062;-2.5884908
X-APPLE-STRUCTURED-LOCATION;VALUE=URI;X-ADDRESS=Finzels Reach Street Food Market Old Temple St Redcliffe Bristol BS1 6LQ UK Old Temple Street England BS1 6LQ United Kingdom;X-APPLE-RADIUS=500;X-TITLE=Old Temple Street:geo:-2.5884908,51.4536062
END:VEVENT
BEGIN:VEVENT
DTSTART;TZID=Europe/London:20260812T110000
DTEND;TZID=Europe/London:20260812T140000
DTSTAMP:20260423T184503
CREATED:20251024T181252Z
LAST-MODIFIED:20260409T192012Z
UID:10003109-1786532400-1786543200@gurtwings.co.uk
SUMMARY:Finzels Reach Market
DESCRIPTION:
URL:https://gurtwings.co.uk/event/finzels-reach-market-84/
LOCATION:Finzels Reach Street Food Market\, Old Temple St\, Redcliffe\, Bristol BS1 6LQ\, UK\, Old Temple Street\, England\, BS1 6LQ\, United Kingdom
GEO:51.4536062;-2.5884908
X-APPLE-STRUCTURED-LOCATION;VALUE=URI;X-ADDRESS=Finzels Reach Street Food Market Old Temple St Redcliffe Bristol BS1 6LQ UK Old Temple Street England BS1 6LQ United Kingdom;X-APPLE-RADIUS=500;X-TITLE=Old Temple Street:geo:-2.5884908,51.4536062
END:VEVENT
BEGIN:VEVENT
DTSTART;TZID=Europe/London:20260819T110000
DTEND;TZID=Europe/London:20260819T140000
DTSTAMP:20260423T184503
CREATED:20251027T191221Z
LAST-MODIFIED:20260409T192040Z
UID:10003129-1787137200-1787148000@gurtwings.co.uk
SUMMARY:Finzels Reach Market
DESCRIPTION:
URL:https://gurtwings.co.uk/event/finzels-reach-market-85/
LOCATION:Finzels Reach Street Food Market\, Old Temple St\, Redcliffe\, Bristol BS1 6LQ\, UK\, Old Temple Street\, England\, BS1 6LQ\, United Kingdom
GEO:51.4536062;-2.5884908
X-APPLE-STRUCTURED-LOCATION;VALUE=URI;X-ADDRESS=Finzels Reach Street Food Market Old Temple St Redcliffe Bristol BS1 6LQ UK Old Temple Street England BS1 6LQ United Kingdom;X-APPLE-RADIUS=500;X-TITLE=Old Temple Street:geo:-2.5884908,51.4536062
END:VEVENT
BEGIN:VEVENT
DTSTART;TZID=Europe/London:20260826T110000
DTEND;TZID=Europe/London:20260826T140000
DTSTAMP:20260423T184503
CREATED:20251027T191248Z
LAST-MODIFIED:20260409T192107Z
UID:10003143-1787742000-1787752800@gurtwings.co.uk
SUMMARY:Finzels Reach Market
DESCRIPTION:
URL:https://gurtwings.co.uk/event/finzels-reach-market-86/
LOCATION:Finzels Reach Street Food Market\, Old Temple St\, Redcliffe\, Bristol BS1 6LQ\, UK\, Old Temple Street\, England\, BS1 6LQ\, United Kingdom
GEO:51.4536062;-2.5884908
X-APPLE-STRUCTURED-LOCATION;VALUE=URI;X-ADDRESS=Finzels Reach Street Food Market Old Temple St Redcliffe Bristol BS1 6LQ UK Old Temple Street England BS1 6LQ United Kingdom;X-APPLE-RADIUS=500;X-TITLE=Old Temple Street:geo:-2.5884908,51.4536062
END:VEVENT
BEGIN:VEVENT
DTSTART;TZID=Europe/London:20260902T110000
DTEND;TZID=Europe/London:20260902T140000
DTSTAMP:20260423T184503
CREATED:20251027T191315Z
LAST-MODIFIED:20260409T192133Z
UID:10003161-1788346800-1788357600@gurtwings.co.uk
SUMMARY:Finzels Reach Market
DESCRIPTION:
URL:https://gurtwings.co.uk/event/finzels-reach-market-87/
LOCATION:Finzels Reach Street Food Market\, Old Temple St\, Redcliffe\, Bristol BS1 6LQ\, UK\, Old Temple Street\, England\, BS1 6LQ\, United Kingdom
GEO:51.4536062;-2.5884908
X-APPLE-STRUCTURED-LOCATION;VALUE=URI;X-ADDRESS=Finzels Reach Street Food Market Old Temple St Redcliffe Bristol BS1 6LQ UK Old Temple Street England BS1 6LQ United Kingdom;X-APPLE-RADIUS=500;X-TITLE=Old Temple Street:geo:-2.5884908,51.4536062
END:VEVENT
BEGIN:VEVENT
DTSTART;TZID=Europe/London:20260909T110000
DTEND;TZID=Europe/London:20260909T140000
DTSTAMP:20260423T184503
CREATED:20251027T191343Z
LAST-MODIFIED:20260409T192159Z
UID:10003179-1788951600-1788962400@gurtwings.co.uk
SUMMARY:Finzels Reach Market
DESCRIPTION:
URL:https://gurtwings.co.uk/event/finzels-reach-market-88/
LOCATION:Finzels Reach Street Food Market\, Old Temple St\, Redcliffe\, Bristol BS1 6LQ\, UK\, Old Temple Street\, England\, BS1 6LQ\, United Kingdom
GEO:51.4536062;-2.5884908
X-APPLE-STRUCTURED-LOCATION;VALUE=URI;X-ADDRESS=Finzels Reach Street Food Market Old Temple St Redcliffe Bristol BS1 6LQ UK Old Temple Street England BS1 6LQ United Kingdom;X-APPLE-RADIUS=500;X-TITLE=Old Temple Street:geo:-2.5884908,51.4536062
END:VEVENT
BEGIN:VEVENT
DTSTART;TZID=Europe/London:20260916T110000
DTEND;TZID=Europe/London:20260916T140000
DTSTAMP:20260423T184503
CREATED:20251027T191358Z
LAST-MODIFIED:20260409T192239Z
UID:10003193-1789556400-1789567200@gurtwings.co.uk
SUMMARY:Finzels Reach Market
DESCRIPTION:
URL:https://gurtwings.co.uk/event/finzels-reach-market-89/
LOCATION:Finzels Reach Street Food Market\, Old Temple St\, Redcliffe\, Bristol BS1 6LQ\, UK\, Old Temple Street\, England\, BS1 6LQ\, United Kingdom
GEO:51.4536062;-2.5884908
X-APPLE-STRUCTURED-LOCATION;VALUE=URI;X-ADDRESS=Finzels Reach Street Food Market Old Temple St Redcliffe Bristol BS1 6LQ UK Old Temple Street England BS1 6LQ United Kingdom;X-APPLE-RADIUS=500;X-TITLE=Old Temple Street:geo:-2.5884908,51.4536062
END:VEVENT
BEGIN:VEVENT
DTSTART;TZID=Europe/London:20260923T110000
DTEND;TZID=Europe/London:20260923T140000
DTSTAMP:20260423T184503
CREATED:20251027T191427Z
LAST-MODIFIED:20260409T192306Z
UID:10003210-1790161200-1790172000@gurtwings.co.uk
SUMMARY:Finzels Reach Market
DESCRIPTION:
URL:https://gurtwings.co.uk/event/finzels-reach-market-90/
LOCATION:Finzels Reach Street Food Market\, Old Temple St\, Redcliffe\, Bristol BS1 6LQ\, UK\, Old Temple Street\, England\, BS1 6LQ\, United Kingdom
GEO:51.4536062;-2.5884908
X-APPLE-STRUCTURED-LOCATION;VALUE=URI;X-ADDRESS=Finzels Reach Street Food Market Old Temple St Redcliffe Bristol BS1 6LQ UK Old Temple Street England BS1 6LQ United Kingdom;X-APPLE-RADIUS=500;X-TITLE=Old Temple Street:geo:-2.5884908,51.4536062
END:VEVENT
BEGIN:VEVENT
DTSTART;TZID=Europe/London:20260930T110000
DTEND;TZID=Europe/London:20260930T140000
DTSTAMP:20260423T184503
CREATED:20251027T191441Z
LAST-MODIFIED:20260409T192334Z
UID:10003222-1790766000-1790776800@gurtwings.co.uk
SUMMARY:Finzels Reach Market
DESCRIPTION:
URL:https://gurtwings.co.uk/event/finzels-reach-market-91/
LOCATION:Finzels Reach Street Food Market\, Old Temple St\, Redcliffe\, Bristol BS1 6LQ\, UK\, Old Temple Street\, England\, BS1 6LQ\, United Kingdom
GEO:51.4536062;-2.5884908
X-APPLE-STRUCTURED-LOCATION;VALUE=URI;X-ADDRESS=Finzels Reach Street Food Market Old Temple St Redcliffe Bristol BS1 6LQ UK Old Temple Street England BS1 6LQ United Kingdom;X-APPLE-RADIUS=500;X-TITLE=Old Temple Street:geo:-2.5884908,51.4536062
END:VEVENT
BEGIN:VEVENT
DTSTART;TZID=Europe/London:20261007T110000
DTEND;TZID=Europe/London:20261007T140000
DTSTAMP:20260423T184503
CREATED:20251027T191509Z
LAST-MODIFIED:20260409T192359Z
UID:10003237-1791370800-1791381600@gurtwings.co.uk
SUMMARY:Finzels Reach Market
DESCRIPTION:
URL:https://gurtwings.co.uk/event/finzels-reach-market-92/
LOCATION:Finzels Reach Street Food Market\, Old Temple St\, Redcliffe\, Bristol BS1 6LQ\, UK\, Old Temple Street\, England\, BS1 6LQ\, United Kingdom
GEO:51.4536062;-2.5884908
X-APPLE-STRUCTURED-LOCATION;VALUE=URI;X-ADDRESS=Finzels Reach Street Food Market Old Temple St Redcliffe Bristol BS1 6LQ UK Old Temple Street England BS1 6LQ United Kingdom;X-APPLE-RADIUS=500;X-TITLE=Old Temple Street:geo:-2.5884908,51.4536062
END:VEVENT
BEGIN:VEVENT
DTSTART;TZID=Europe/London:20261014T110000
DTEND;TZID=Europe/London:20261014T140000
DTSTAMP:20260423T184503
CREATED:20251027T191537Z
LAST-MODIFIED:20260409T192428Z
UID:10003253-1791975600-1791986400@gurtwings.co.uk
SUMMARY:Finzels Reach Market
DESCRIPTION:
URL:https://gurtwings.co.uk/event/finzels-reach-market-93/
LOCATION:Finzels Reach Street Food Market\, Old Temple St\, Redcliffe\, Bristol BS1 6LQ\, UK\, Old Temple Street\, England\, BS1 6LQ\, United Kingdom
GEO:51.4536062;-2.5884908
X-APPLE-STRUCTURED-LOCATION;VALUE=URI;X-ADDRESS=Finzels Reach Street Food Market Old Temple St Redcliffe Bristol BS1 6LQ UK Old Temple Street England BS1 6LQ United Kingdom;X-APPLE-RADIUS=500;X-TITLE=Old Temple Street:geo:-2.5884908,51.4536062
END:VEVENT
BEGIN:VEVENT
DTSTART;TZID=Europe/London:20261021T110000
DTEND;TZID=Europe/London:20261021T140000
DTSTAMP:20260423T184503
CREATED:20251027T191552Z
LAST-MODIFIED:20260409T192441Z
UID:10003267-1792580400-1792591200@gurtwings.co.uk
SUMMARY:Finzels Reach Market
DESCRIPTION:
URL:https://gurtwings.co.uk/event/finzels-reach-market-94/
LOCATION:Finzels Reach Street Food Market\, Old Temple St\, Redcliffe\, Bristol BS1 6LQ\, UK\, Old Temple Street\, England\, BS1 6LQ\, United Kingdom
GEO:51.4536062;-2.5884908
X-APPLE-STRUCTURED-LOCATION;VALUE=URI;X-ADDRESS=Finzels Reach Street Food Market Old Temple St Redcliffe Bristol BS1 6LQ UK Old Temple Street England BS1 6LQ United Kingdom;X-APPLE-RADIUS=500;X-TITLE=Old Temple Street:geo:-2.5884908,51.4536062
END:VEVENT
BEGIN:VEVENT
DTSTART;TZID=Europe/London:20261028T110000
DTEND;TZID=Europe/London:20261028T140000
DTSTAMP:20260423T184503
CREATED:20251027T191621Z
LAST-MODIFIED:20260409T192508Z
UID:10003280-1793185200-1793196000@gurtwings.co.uk
SUMMARY:Finzels Reach Market
DESCRIPTION:
URL:https://gurtwings.co.uk/event/finzels-reach-market-95/
LOCATION:Finzels Reach Street Food Market\, Old Temple St\, Redcliffe\, Bristol BS1 6LQ\, UK\, Old Temple Street\, England\, BS1 6LQ\, United Kingdom
GEO:51.4536062;-2.5884908
X-APPLE-STRUCTURED-LOCATION;VALUE=URI;X-ADDRESS=Finzels Reach Street Food Market Old Temple St Redcliffe Bristol BS1 6LQ UK Old Temple Street England BS1 6LQ United Kingdom;X-APPLE-RADIUS=500;X-TITLE=Old Temple Street:geo:-2.5884908,51.4536062
END:VEVENT
BEGIN:VEVENT
DTSTART;TZID=Europe/London:20261104T110000
DTEND;TZID=Europe/London:20261104T140000
DTSTAMP:20260423T184503
CREATED:20251028T194618Z
LAST-MODIFIED:20260409T192522Z
UID:10003290-1793790000-1793800800@gurtwings.co.uk
SUMMARY:Finzels Reach Market
DESCRIPTION:
URL:https://gurtwings.co.uk/event/finzels-reach-market-96/
LOCATION:Finzels Reach Street Food Market\, Old Temple St\, Redcliffe\, Bristol BS1 6LQ\, UK\, Old Temple Street\, England\, BS1 6LQ\, United Kingdom
GEO:51.4536062;-2.5884908
X-APPLE-STRUCTURED-LOCATION;VALUE=URI;X-ADDRESS=Finzels Reach Street Food Market Old Temple St Redcliffe Bristol BS1 6LQ UK Old Temple Street England BS1 6LQ United Kingdom;X-APPLE-RADIUS=500;X-TITLE=Old Temple Street:geo:-2.5884908,51.4536062
END:VEVENT
BEGIN:VEVENT
DTSTART;TZID=Europe/London:20261111T110000
DTEND;TZID=Europe/London:20261111T140000
DTSTAMP:20260423T184503
CREATED:20251028T194633Z
LAST-MODIFIED:20260409T192548Z
UID:10003305-1794394800-1794405600@gurtwings.co.uk
SUMMARY:Finzels Reach Market
DESCRIPTION:
URL:https://gurtwings.co.uk/event/finzels-reach-market-97/
LOCATION:Finzels Reach Street Food Market\, Old Temple St\, Redcliffe\, Bristol BS1 6LQ\, UK\, Old Temple Street\, England\, BS1 6LQ\, United Kingdom
GEO:51.4536062;-2.5884908
X-APPLE-STRUCTURED-LOCATION;VALUE=URI;X-ADDRESS=Finzels Reach Street Food Market Old Temple St Redcliffe Bristol BS1 6LQ UK Old Temple Street England BS1 6LQ United Kingdom;X-APPLE-RADIUS=500;X-TITLE=Old Temple Street:geo:-2.5884908,51.4536062
END:VEVENT
BEGIN:VEVENT
DTSTART;TZID=Europe/London:20261118T110000
DTEND;TZID=Europe/London:20261118T140000
DTSTAMP:20260423T184503
CREATED:20251028T194701Z
LAST-MODIFIED:20260409T192617Z
UID:10003317-1794999600-1795010400@gurtwings.co.uk
SUMMARY:Finzels Reach Market
DESCRIPTION:
URL:https://gurtwings.co.uk/event/finzels-reach-market-98/
LOCATION:Finzels Reach Street Food Market\, Old Temple St\, Redcliffe\, Bristol BS1 6LQ\, UK\, Old Temple Street\, England\, BS1 6LQ\, United Kingdom
GEO:51.4536062;-2.5884908
X-APPLE-STRUCTURED-LOCATION;VALUE=URI;X-ADDRESS=Finzels Reach Street Food Market Old Temple St Redcliffe Bristol BS1 6LQ UK Old Temple Street England BS1 6LQ United Kingdom;X-APPLE-RADIUS=500;X-TITLE=Old Temple Street:geo:-2.5884908,51.4536062
END:VEVENT
END:VCALENDAR