BEGIN:VCALENDAR
VERSION:2.0
PRODID:-//Gurt Wings - ECPv6.15.20//NONSGML v1.0//EN
CALSCALE:GREGORIAN
METHOD:PUBLISH
X-WR-CALNAME:Gurt Wings
X-ORIGINAL-URL:https://gurtwings.co.uk
X-WR-CALDESC:Events for Gurt Wings
REFRESH-INTERVAL;VALUE=DURATION:PT1H
X-Robots-Tag:noindex
X-PUBLISHED-TTL:PT1H
BEGIN:VTIMEZONE
TZID:Europe/London
BEGIN:DAYLIGHT
TZOFFSETFROM:+0000
TZOFFSETTO:+0100
TZNAME:BST
DTSTART:20250330T010000
END:DAYLIGHT
BEGIN:STANDARD
TZOFFSETFROM:+0100
TZOFFSETTO:+0000
TZNAME:GMT
DTSTART:20251026T010000
END:STANDARD
BEGIN:DAYLIGHT
TZOFFSETFROM:+0000
TZOFFSETTO:+0100
TZNAME:BST
DTSTART:20260329T010000
END:DAYLIGHT
BEGIN:STANDARD
TZOFFSETFROM:+0100
TZOFFSETTO:+0000
TZNAME:GMT
DTSTART:20261025T010000
END:STANDARD
BEGIN:DAYLIGHT
TZOFFSETFROM:+0000
TZOFFSETTO:+0100
TZNAME:BST
DTSTART:20270328T010000
END:DAYLIGHT
BEGIN:STANDARD
TZOFFSETFROM:+0100
TZOFFSETTO:+0000
TZNAME:GMT
DTSTART:20271031T010000
END:STANDARD
END:VTIMEZONE
BEGIN:VEVENT
DTSTART;TZID=Europe/London:20260501T170000
DTEND;TZID=Europe/London:20260501T200000
DTSTAMP:20260425T181137
CREATED:20251020T162613Z
LAST-MODIFIED:20260424T181203Z
UID:10002847-1777654800-1777665600@gurtwings.co.uk
SUMMARY:Sustain Farm Shop\, Wootton Bassett
DESCRIPTION:
URL:https://gurtwings.co.uk/event/sustain-farm-shop-wootton-bassett-5/
LOCATION:Sustain Farm Shop & Cafe\, Wootton Bassett North\, United Kingdom
GEO:51.5586325818;-1.91787004668
END:VEVENT
BEGIN:VEVENT
DTSTART;TZID=Europe/London:20260529T170000
DTEND;TZID=Europe/London:20260529T200000
DTSTAMP:20260425T181137
CREATED:20251022T173918Z
LAST-MODIFIED:20260409T191453Z
UID:10002922-1780074000-1780084800@gurtwings.co.uk
SUMMARY:Sustain Farm Shop\, Wootton Bassett
DESCRIPTION:
URL:https://gurtwings.co.uk/event/sustain-farm-shop-wootton-bassett-6/
LOCATION:Sustain Farm Shop & Cafe\, Wootton Bassett North\, United Kingdom
GEO:51.5586325818;-1.91787004668
END:VEVENT
BEGIN:VEVENT
DTSTART;TZID=Europe/London:20260612T170000
DTEND;TZID=Europe/London:20260612T210000
DTSTAMP:20260425T181137
CREATED:20251023T175359Z
LAST-MODIFIED:20260105T205342Z
UID:10002960-1781283600-1781298000@gurtwings.co.uk
SUMMARY:Sustain Farm Shop\, Wootton Bassett
DESCRIPTION:
URL:https://gurtwings.co.uk/event/sustain-farm-shop-wootton-bassett-7/
LOCATION:Sustain Farm Shop & Cafe\, Wootton Bassett North\, United Kingdom
GEO:51.5586325818;-1.91787004668
END:VEVENT
BEGIN:VEVENT
DTSTART;TZID=Europe/London:20260620T120000
DTEND;TZID=Europe/London:20260620T220000
DTSTAMP:20260425T181137
CREATED:20251024T180936Z
LAST-MODIFIED:20260409T191632Z
UID:10002986-1781956800-1781992800@gurtwings.co.uk
SUMMARY:Gurt Fest
DESCRIPTION:
URL:https://gurtwings.co.uk/event/gurt-fest/
LOCATION:Sustain Farm Shop & Cafe\, Wootton Bassett North\, United Kingdom
GEO:51.5586325818;-1.91787004668
END:VEVENT
BEGIN:VEVENT
DTSTART;TZID=Europe/London:20260620T120000
DTEND;TZID=Europe/London:20260620T220000
DTSTAMP:20260425T181137
CREATED:20251024T180936Z
LAST-MODIFIED:20260409T191632Z
UID:10002987-1781956800-1781992800@gurtwings.co.uk
SUMMARY:Gurt Fest
DESCRIPTION:
URL:https://gurtwings.co.uk/event/gurt-fest-2/
LOCATION:Sustain Farm Shop & Cafe\, Wootton Bassett North\, United Kingdom
GEO:51.5586325818;-1.91787004668
END:VEVENT
BEGIN:VEVENT
DTSTART;TZID=Europe/London:20260703T170000
DTEND;TZID=Europe/London:20260703T200000
DTSTAMP:20260425T181137
CREATED:20251024T181019Z
LAST-MODIFIED:20260409T191728Z
UID:10003017-1783098000-1783108800@gurtwings.co.uk
SUMMARY:Sustain Farm Shop\, Wootton Bassett
DESCRIPTION:
URL:https://gurtwings.co.uk/event/sustain-farm-shop-wootton-bassett-8/
LOCATION:Sustain Farm Shop & Cafe\, Wootton Bassett North\, United Kingdom
GEO:51.5586325818;-1.91787004668
END:VEVENT
BEGIN:VEVENT
DTSTART;TZID=Europe/London:20260731T170000
DTEND;TZID=Europe/London:20260731T200000
DTSTAMP:20260425T181137
CREATED:20251024T181212Z
LAST-MODIFIED:20260409T191933Z
UID:10003083-1785517200-1785528000@gurtwings.co.uk
SUMMARY:Sustain Farm Shop\, Wootton Bassett
DESCRIPTION:
URL:https://gurtwings.co.uk/event/sustain-farm-shop-wootton-bassett-9/
LOCATION:Sustain Farm Shop & Cafe\, Wootton Bassett North\, United Kingdom
GEO:51.5586325818;-1.91787004668
END:VEVENT
BEGIN:VEVENT
DTSTART;TZID=Europe/London:20260814T170000
DTEND;TZID=Europe/London:20260814T200000
DTSTAMP:20260425T181137
CREATED:20251024T181306Z
LAST-MODIFIED:20260409T192027Z
UID:10003118-1786726800-1786737600@gurtwings.co.uk
SUMMARY:Sustain Farm Shop\, Wootton Bassett
DESCRIPTION:
URL:https://gurtwings.co.uk/event/sustain-farm-shop-wootton-bassett-10/
LOCATION:Sustain Farm Shop & Cafe\, Wootton Bassett North\, United Kingdom
GEO:51.5586325818;-1.91787004668
END:VEVENT
BEGIN:VEVENT
DTSTART;TZID=Europe/London:20260904T170000
DTEND;TZID=Europe/London:20260904T200000
DTSTAMP:20260425T181137
CREATED:20251027T191329Z
LAST-MODIFIED:20260409T192147Z
UID:10003171-1788541200-1788552000@gurtwings.co.uk
SUMMARY:Sustain Farm Shop\, Wootton Bassett
DESCRIPTION:
URL:https://gurtwings.co.uk/event/sustain-farm-shop-wootton-bassett-11/
LOCATION:Sustain Farm Shop & Cafe\, Wootton Bassett North\, United Kingdom
GEO:51.5586325818;-1.91787004668
END:VEVENT
BEGIN:VEVENT
DTSTART;TZID=Europe/London:20261009T170000
DTEND;TZID=Europe/London:20261009T200000
DTSTAMP:20260425T181137
CREATED:20251027T191523Z
LAST-MODIFIED:20260409T192401Z
UID:10003242-1791565200-1791576000@gurtwings.co.uk
SUMMARY:Sustain Farm Shop\, Wootton Bassett
DESCRIPTION:
URL:https://gurtwings.co.uk/event/sustain-farm-shop-wootton-bassett-12/
LOCATION:Sustain Farm Shop & Cafe\, Wootton Bassett North\, United Kingdom
GEO:51.5586325818;-1.91787004668
END:VEVENT
BEGIN:VEVENT
DTSTART;TZID=Europe/London:20261023T170000
DTEND;TZID=Europe/London:20261023T200000
DTSTAMP:20260425T181137
CREATED:20251027T191607Z
LAST-MODIFIED:20260409T192454Z
UID:10003274-1792774800-1792785600@gurtwings.co.uk
SUMMARY:Sustain Farm Shop\, Wootton Bassett
DESCRIPTION:
URL:https://gurtwings.co.uk/event/sustain-farm-shop-wootton-bassett-13/
LOCATION:Sustain Farm Shop & Cafe\, Wootton Bassett North\, United Kingdom
GEO:51.5586325818;-1.91787004668
END:VEVENT
BEGIN:VEVENT
DTSTART;TZID=Europe/London:20261030T170000
DTEND;TZID=Europe/London:20261030T200000
DTSTAMP:20260425T181137
CREATED:20251027T191622Z
LAST-MODIFIED:20260106T212958Z
UID:10003286-1793379600-1793390400@gurtwings.co.uk
SUMMARY:Sustain Farm Shop\, Wootton Bassett
DESCRIPTION:
URL:https://gurtwings.co.uk/event/sustain-farm-shop-wootton-bassett-14/
LOCATION:Sustain Farm Shop & Cafe\, Wootton Bassett North\, United Kingdom
GEO:51.5586325818;-1.91787004668
END:VEVENT
BEGIN:VEVENT
DTSTART;TZID=Europe/London:20261106T170000
DTEND;TZID=Europe/London:20261106T200000
DTSTAMP:20260425T181137
CREATED:20251028T194632Z
LAST-MODIFIED:20260409T192535Z
UID:10003300-1793984400-1793995200@gurtwings.co.uk
SUMMARY:Sustain Farm Shop\, Wootton Bassett
DESCRIPTION:
URL:https://gurtwings.co.uk/event/sustain-farm-shop-wootton-bassett-15/
LOCATION:Sustain Farm Shop & Cafe\, Wootton Bassett North\, United Kingdom
GEO:51.5586325818;-1.91787004668
END:VEVENT
BEGIN:VEVENT
DTSTART;TZID=Europe/London:20261204T170000
DTEND;TZID=Europe/London:20261204T200000
DTSTAMP:20260425T181137
CREATED:20251028T194755Z
LAST-MODIFIED:20260409T192712Z
UID:10003354-1796403600-1796414400@gurtwings.co.uk
SUMMARY:Sustain Farm Shop\, Wootton Bassett
DESCRIPTION:
URL:https://gurtwings.co.uk/event/sustain-farm-shop-wootton-bassett-17/
LOCATION:Sustain Farm Shop & Cafe\, Wootton Bassett North\, United Kingdom
GEO:51.5586325818;-1.91787004668
END:VEVENT
END:VCALENDAR