BEGIN:VCALENDAR
VERSION:2.0
PRODID:-//Gurt Wings - ECPv6.15.20//NONSGML v1.0//EN
CALSCALE:GREGORIAN
METHOD:PUBLISH
X-ORIGINAL-URL:https://gurtwings.co.uk
X-WR-CALDESC:Events for Gurt Wings
REFRESH-INTERVAL;VALUE=DURATION:PT1H
X-Robots-Tag:noindex
X-PUBLISHED-TTL:PT1H
BEGIN:VTIMEZONE
TZID:Europe/London
BEGIN:DAYLIGHT
TZOFFSETFROM:+0000
TZOFFSETTO:+0100
TZNAME:BST
DTSTART:20250330T010000
END:DAYLIGHT
BEGIN:STANDARD
TZOFFSETFROM:+0100
TZOFFSETTO:+0000
TZNAME:GMT
DTSTART:20251026T010000
END:STANDARD
BEGIN:DAYLIGHT
TZOFFSETFROM:+0000
TZOFFSETTO:+0100
TZNAME:BST
DTSTART:20260329T010000
END:DAYLIGHT
BEGIN:STANDARD
TZOFFSETFROM:+0100
TZOFFSETTO:+0000
TZNAME:GMT
DTSTART:20261025T010000
END:STANDARD
BEGIN:DAYLIGHT
TZOFFSETFROM:+0000
TZOFFSETTO:+0100
TZNAME:BST
DTSTART:20270328T010000
END:DAYLIGHT
BEGIN:STANDARD
TZOFFSETFROM:+0100
TZOFFSETTO:+0000
TZNAME:GMT
DTSTART:20271031T010000
END:STANDARD
END:VTIMEZONE
BEGIN:VEVENT
DTSTART;TZID=Europe/London:20260426T160000
DTEND;TZID=Europe/London:20260426T200000
DTSTAMP:20260425T163641
CREATED:20260218T174600Z
LAST-MODIFIED:20260424T181149Z
UID:10003765-1777219200-1777233600@gurtwings.co.uk
SUMMARY:The Shield & Dagger\, Swindon
DESCRIPTION:
URL:https://gurtwings.co.uk/event/the-shield-dagger-swindon-2/
LOCATION:The Shield and Dagger\, 88 Thames Avenue\, Haydon Wick\, England\, United Kingdom
GEO:51.58743385397;-1.796764086935
X-APPLE-STRUCTURED-LOCATION;VALUE=URI;X-ADDRESS=The Shield and Dagger 88 Thames Avenue Haydon Wick England United Kingdom;X-APPLE-RADIUS=500;X-TITLE=88 Thames Avenue:geo:-1.796764086935,51.58743385397
END:VEVENT
BEGIN:VEVENT
DTSTART;TZID=Europe/London:20260523T160000
DTEND;TZID=Europe/London:20260523T200000
DTSTAMP:20260425T163641
CREATED:20260320T171703Z
LAST-MODIFIED:20260409T191414Z
UID:10003917-1779552000-1779566400@gurtwings.co.uk
SUMMARY:The Shield & Dagger
DESCRIPTION:
URL:https://gurtwings.co.uk/event/the-shield-dagger/
LOCATION:The Shield and Dagger\, 88 Thames Avenue\, Haydon Wick\, England\, United Kingdom
GEO:51.58743385397;-1.796764086935
X-APPLE-STRUCTURED-LOCATION;VALUE=URI;X-ADDRESS=The Shield and Dagger 88 Thames Avenue Haydon Wick England United Kingdom;X-APPLE-RADIUS=500;X-TITLE=88 Thames Avenue:geo:-1.796764086935,51.58743385397
END:VEVENT
BEGIN:VEVENT
DTSTART;TZID=Europe/London:20260627T180000
DTEND;TZID=Europe/London:20260627T220000
DTSTAMP:20260425T163641
CREATED:20260317T231921Z
LAST-MODIFIED:20260409T191700Z
UID:10003903-1782583200-1782597600@gurtwings.co.uk
SUMMARY:The Shield & Dagger\, Swindon
DESCRIPTION:
URL:https://gurtwings.co.uk/event/the-shield-dagger-swindon-3/
LOCATION:The Shield and Dagger\, 88 Thames Avenue\, Haydon Wick\, England\, United Kingdom
GEO:51.58743385397;-1.796764086935
X-APPLE-STRUCTURED-LOCATION;VALUE=URI;X-ADDRESS=The Shield and Dagger 88 Thames Avenue Haydon Wick England United Kingdom;X-APPLE-RADIUS=500;X-TITLE=88 Thames Avenue:geo:-1.796764086935,51.58743385397
END:VEVENT
BEGIN:VEVENT
DTSTART;TZID=Europe/London:20260716T170000
DTEND;TZID=Europe/London:20260716T200000
DTSTAMP:20260425T163641
CREATED:20260320T172119Z
LAST-MODIFIED:20260409T191823Z
UID:10003920-1784221200-1784232000@gurtwings.co.uk
SUMMARY:The Shield & Dagger\, Swindon
DESCRIPTION:
URL:https://gurtwings.co.uk/event/the-shield-dagger-swindon-4/
LOCATION:The Shield and Dagger\, 88 Thames Avenue\, Haydon Wick\, England\, United Kingdom
GEO:51.58743385397;-1.796764086935
X-APPLE-STRUCTURED-LOCATION;VALUE=URI;X-ADDRESS=The Shield and Dagger 88 Thames Avenue Haydon Wick England United Kingdom;X-APPLE-RADIUS=500;X-TITLE=88 Thames Avenue:geo:-1.796764086935,51.58743385397
END:VEVENT
BEGIN:VEVENT
DTSTART;TZID=Europe/London:20260813T170000
DTEND;TZID=Europe/London:20260813T200000
DTSTAMP:20260425T163641
CREATED:20260320T172322Z
LAST-MODIFIED:20260409T192026Z
UID:10003921-1786640400-1786651200@gurtwings.co.uk
SUMMARY:The Shield & Dagger\, Swindon
DESCRIPTION:
URL:https://gurtwings.co.uk/event/the-shield-dagger-swindon-5/
LOCATION:The Shield and Dagger\, 88 Thames Avenue\, Haydon Wick\, England\, United Kingdom
GEO:51.58743385397;-1.796764086935
X-APPLE-STRUCTURED-LOCATION;VALUE=URI;X-ADDRESS=The Shield and Dagger 88 Thames Avenue Haydon Wick England United Kingdom;X-APPLE-RADIUS=500;X-TITLE=88 Thames Avenue:geo:-1.796764086935,51.58743385397
END:VEVENT
BEGIN:VEVENT
DTSTART;TZID=Europe/London:20260920T160000
DTEND;TZID=Europe/London:20260920T200000
DTSTAMP:20260425T163641
CREATED:20260320T172609Z
LAST-MODIFIED:20260409T192306Z
UID:10003924-1789920000-1789934400@gurtwings.co.uk
SUMMARY:The Shield & Dagger\, Swindon
DESCRIPTION:
URL:https://gurtwings.co.uk/event/the-shield-dagger-swindon-6/
LOCATION:The Shield and Dagger\, 88 Thames Avenue\, Haydon Wick\, England\, United Kingdom
GEO:51.58743385397;-1.796764086935
X-APPLE-STRUCTURED-LOCATION;VALUE=URI;X-ADDRESS=The Shield and Dagger 88 Thames Avenue Haydon Wick England United Kingdom;X-APPLE-RADIUS=500;X-TITLE=88 Thames Avenue:geo:-1.796764086935,51.58743385397
END:VEVENT
BEGIN:VEVENT
DTSTART;TZID=Europe/London:20261018T160000
DTEND;TZID=Europe/London:20261018T200000
DTSTAMP:20260425T163641
CREATED:20260320T172748Z
LAST-MODIFIED:20260409T192441Z
UID:10003926-1792339200-1792353600@gurtwings.co.uk
SUMMARY:The Shield & Dagger\, Swindon
DESCRIPTION:
URL:https://gurtwings.co.uk/event/the-shield-dagger-swindon-7/
LOCATION:The Shield and Dagger\, 88 Thames Avenue\, Haydon Wick\, England\, United Kingdom
GEO:51.58743385397;-1.796764086935
X-APPLE-STRUCTURED-LOCATION;VALUE=URI;X-ADDRESS=The Shield and Dagger 88 Thames Avenue Haydon Wick England United Kingdom;X-APPLE-RADIUS=500;X-TITLE=88 Thames Avenue:geo:-1.796764086935,51.58743385397
END:VEVENT
BEGIN:VEVENT
DTSTART;TZID=Europe/London:20261122T160000
DTEND;TZID=Europe/London:20261122T200000
DTSTAMP:20260425T163641
CREATED:20260320T172941Z
LAST-MODIFIED:20260409T192631Z
UID:10003928-1795363200-1795377600@gurtwings.co.uk
SUMMARY:The Shield & Dagger\, Swindon
DESCRIPTION:
URL:https://gurtwings.co.uk/event/the-shield-dagger-swindon-8/
LOCATION:The Shield and Dagger\, 88 Thames Avenue\, Haydon Wick\, England\, United Kingdom
GEO:51.58743385397;-1.796764086935
X-APPLE-STRUCTURED-LOCATION;VALUE=URI;X-ADDRESS=The Shield and Dagger 88 Thames Avenue Haydon Wick England United Kingdom;X-APPLE-RADIUS=500;X-TITLE=88 Thames Avenue:geo:-1.796764086935,51.58743385397
END:VEVENT
BEGIN:VEVENT
DTSTART;TZID=Europe/London:20261220T160000
DTEND;TZID=Europe/London:20261220T200000
DTSTAMP:20260425T163641
CREATED:20260320T173134Z
LAST-MODIFIED:20260409T192821Z
UID:10003930-1797782400-1797796800@gurtwings.co.uk
SUMMARY:The Shield & Dagger\, Swindon
DESCRIPTION:
URL:https://gurtwings.co.uk/event/the-shield-dagger-swindon-9/
LOCATION:The Shield and Dagger\, 88 Thames Avenue\, Haydon Wick\, England\, United Kingdom
GEO:51.58743385397;-1.796764086935
X-APPLE-STRUCTURED-LOCATION;VALUE=URI;X-ADDRESS=The Shield and Dagger 88 Thames Avenue Haydon Wick England United Kingdom;X-APPLE-RADIUS=500;X-TITLE=88 Thames Avenue:geo:-1.796764086935,51.58743385397
END:VEVENT
END:VCALENDAR